BEGIN:VCALENDAR
PRODID:-//AT Content Types//AT Event//EN
VERSION:2.0
METHOD:PUBLISH
BEGIN:VEVENT
DTSTAMP:20260421T085922Z
CREATED:20140724T011804Z
UID:ATEvent-b133769cbe7c8a7d9750eed0b03b4ac4
LAST-MODIFIED:20140724T012002Z
SUMMARY:Prostate Cancer World Congress 2015
DTSTART:20150817T140000Z
DTEND:20150820T140000Z
DESCRIPTION:Bringing together world leaders presenting their expertise
  and current research on all areas of prostate cancer. Incorporating t
 he 18th Asia-Pacific Prostate Cancer Conference.
LOCATION:Cairns Convention Centre\, Australia
URL:http://prostatecancercongress.org.au/
CLASS:PUBLIC
END:VEVENT
END:VCALENDAR
