BEGIN:VCALENDAR
PRODID:-//AT Content Types//AT Event//EN
VERSION:1.0
BEGIN:VEVENT
DTSTART:20110213T050000Z
DTEND:20110216T050000Z
DCREATED:20101214T010758Z
UID:ATEvent-73ec86db7f091996af8a57089c5bcd78
SEQUENCE:0
LAST-MODIFIED:20101214T010826Z
SUMMARY:Lorne Genome Conference
LOCATION:Mantra Erskine\, Lorne\, Victoria
PRIORITY:3
TRANSP:0
END:VEVENT
END:VCALENDAR
