BEGIN:VCALENDAR
PRODID:-//AT Content Types//AT Event//EN
VERSION:2.0
METHOD:PUBLISH
BEGIN:VEVENT
DTSTAMP:20260421T085628Z
CREATED:20160108T030850Z
UID:ATEvent-18cd8c8549e340548b16e2a5456f3497
LAST-MODIFIED:20160108T030950Z
SUMMARY:IGF-Oz 2016
DTSTART:20160204T093000Z
DTEND:20160205T140000Z
DESCRIPTION:The IGF system and related proteins in development and dis
 ease
LOCATION:Treacy Centre\, Parkville\, Victoria\, Australia
CONTACT:igf-oz2016@wehi.edu.au
URL:http://www.igf-oz.org/home/
CLASS:PUBLIC
END:VEVENT
END:VCALENDAR
