BEGIN:VCALENDAR
PRODID:-//AT Content Types//AT Event//EN
VERSION:1.0
BEGIN:VEVENT
DTSTART:20170512T090000Z
DTEND:20170516T050000Z
DCREATED:20170112T005440Z
UID:ATEvent-9b38f347f0df45df9f7119c6314ba0c8
SEQUENCE:0
LAST-MODIFIED:20170112T005552Z
SUMMARY:AUA 2017
DESCRIPTION:Through the Annual Meeting—and other year-round educatio
 nal offerings—the AUA sets the highest standards for urologic educat
 ion worldwide.
LOCATION:Boston - USA
PRIORITY:3
TRANSP:0
END:VEVENT
END:VCALENDAR
