BEGIN:VCALENDAR
PRODID:-//AT Content Types//AT Event//EN
VERSION:1.0
BEGIN:VEVENT
DTSTART:20150429T090000Z
DTEND:20150501T170000Z
DCREATED:20150122T033230Z
UID:ATEvent-6c8b15ce03671776e2d3fc862d3c12c9
SEQUENCE:0
LAST-MODIFIED:20150122T033248Z
SUMMARY:1st Australian Cancer and Metabolism Meeting
DESCRIPTION:Scientists at all levels are welcome and particularly stud
 ents and postdocs are encouraged to present their work. A poster sessi
 on will be held on the Thursday afternoon.
LOCATION:Garvan Institute of Medical Research\, Sydney
PRIORITY:3
TRANSP:0
END:VEVENT
END:VCALENDAR
